Workbook

Sheet Contracts
A1: Contract # | B1: Buyer | C1: Crop | D1: Tonnes | E1: Price ($/t) | F1: Delivery start | G1: Delivery end | H1: Status | I1: Notes

Sheet Bin Inventory
A1: Bin | B1: Site | C1: Crop | D1: Capacity (t) | E1: On hand (t) | F1: Last updated | G1: Notes

Sheet Position
A1: Crop | B1: Estimated production (t) | C1: Contracted (t) | D1: Exposed (t) | E1: Weighted avg ($/t)
C2: =IF(A2="","",SUMIF(Contracts!C:C,A2,Contracts!D:D)) | D2: =IF(OR(A2="",B2=""),"",MAX(0,B2-C2)) | E2: =IFERROR(SUMPRODUCT((Contracts!C$2:C$200=A2)*Contracts!D$2:D$200*Contracts!E$2:E$200)/SUMPRODUCT((Contracts!C$2:C$200=A2)*(Contracts!E$2:E$200>0)*Contracts!D$2:D$200),"")
C3: =IF(A3="","",SUMIF(Contracts!C:C,A3,Contracts!D:D)) | D3: =IF(OR(A3="",B3=""),"",MAX(0,B3-C3)) | E3: =IFERROR(SUMPRODUCT((Contracts!C$2:C$200=A3)*Contracts!D$2:D$200*Contracts!E$2:E$200)/SUMPRODUCT((Contracts!C$2:C$200=A3)*(Contracts!E$2:E$200>0)*Contracts!D$2:D$200),"")
C4: =IF(A4="","",SUMIF(Contracts!C:C,A4,Contracts!D:D)) | D4: =IF(OR(A4="",B4=""),"",MAX(0,B4-C4)) | E4: =IFERROR(SUMPRODUCT((Contracts!C$2:C$200=A4)*Contracts!D$2:D$200*Contracts!E$2:E$200)/SUMPRODUCT((Contracts!C$2:C$200=A4)*(Contracts!E$2:E$200>0)*Contracts!D$2:D$200),"")
C5: =IF(A5="","",SUMIF(Contracts!C:C,A5,Contracts!D:D)) | D5: =IF(OR(A5="",B5=""),"",MAX(0,B5-C5)) | E5: =IFERROR(SUMPRODUCT((Contracts!C$2:C$200=A5)*Contracts!D$2:D$200*Contracts!E$2:E$200)/SUMPRODUCT((Contracts!C$2:C$200=A5)*(Contracts!E$2:E$200>0)*Contracts!D$2:D$200),"")
C6: =IF(A6="","",SUMIF(Contracts!C:C,A6,Contracts!D:D)) | D6: =IF(OR(A6="",B6=""),"",MAX(0,B6-C6)) | E6: =IFERROR(SUMPRODUCT((Contracts!C$2:C$200=A6)*Contracts!D$2:D$200*Contracts!E$2:E$200)/SUMPRODUCT((Contracts!C$2:C$200=A6)*(Contracts!E$2:E$200>0)*Contracts!D$2:D$200),"")
C7: =IF(A7="","",SUMIF(Contracts!C:C,A7,Contracts!D:D)) | D7: =IF(OR(A7="",B7=""),"",MAX(0,B7-C7)) | E7: =IFERROR(SUMPRODUCT((Contracts!C$2:C$200=A7)*Contracts!D$2:D$200*Contracts!E$2:E$200)/SUMPRODUCT((Contracts!C$2:C$200=A7)*(Contracts!E$2:E$200>0)*Contracts!D$2:D$200),"")
C8: =IF(A8="","",SUMIF(Contracts!C:C,A8,Contracts!D:D)) | D8: =IF(OR(A8="",B8=""),"",MAX(0,B8-C8)) | E8: =IFERROR(SUMPRODUCT((Contracts!C$2:C$200=A8)*Contracts!D$2:D$200*Contracts!E$2:E$200)/SUMPRODUCT((Contracts!C$2:C$200=A8)*(Contracts!E$2:E$200>0)*Contracts!D$2:D$200),"")
C9: =IF(A9="","",SUMIF(Contracts!C:C,A9,Contracts!D:D)) | D9: =IF(OR(A9="",B9=""),"",MAX(0,B9-C9)) | E9: =IFERROR(SUMPRODUCT((Contracts!C$2:C$200=A9)*Contracts!D$2:D$200*Contracts!E$2:E$200)/SUMPRODUCT((Contracts!C$2:C$200=A9)*(Contracts!E$2:E$200>0)*Contracts!D$2:D$200),"")
C10: =IF(A10="","",SUMIF(Contracts!C:C,A10,Contracts!D:D)) | D10: =IF(OR(A10="",B10=""),"",MAX(0,B10-C10)) | E10: =IFERROR(SUMPRODUCT((Contracts!C$2:C$200=A10)*Contracts!D$2:D$200*Contracts!E$2:E$200)/SUMPRODUCT((Contracts!C$2:C$200=A10)*(Contracts!E$2:E$200>0)*Contracts!D$2:D$200),"")
C11: =IF(A11="","",SUMIF(Contracts!C:C,A11,Contracts!D:D)) | D11: =IF(OR(A11="",B11=""),"",MAX(0,B11-C11)) | E11: =IFERROR(SUMPRODUCT((Contracts!C$2:C$200=A11)*Contracts!D$2:D$200*Contracts!E$2:E$200)/SUMPRODUCT((Contracts!C$2:C$200=A11)*(Contracts!E$2:E$200>0)*Contracts!D$2:D$200),"")
